BEGIN:VCALENDAR
VERSION:2.0
PRODID:-//pretix//pretix.eu//
BEGIN:VTIMEZONE
TZID:Europe/Berlin
BEGIN:STANDARD
DTSTART:20001029T040000
RRULE:FREQ=YEARLY;BYDAY=-1SU;BYMONTH=10
TZNAME:CET
TZOFFSETFROM:+0200
TZOFFSETTO:+0100
END:STANDARD
BEGIN:DAYLIGHT
DTSTART:20000326T030000
RRULE:FREQ=YEARLY;BYDAY=-1SU;BYMONTH=3
TZNAME:CEST
TZOFFSETFROM:+0100
TZOFFSETTO:+0200
END:DAYLIGHT
END:VTIMEZONE
BEGIN:VEVENT
UID:pretix-MuseenDresden-kraszewski-4853803@shop.museen-dresden.de
DTSTART;TZID=Europe/Berlin:20260419T150000
DTEND;TZID=Europe/Berlin:20260419T160000
DESCRIPTION:Tickets: https://shop.museen-dresden.de/kraszewski/4853803/\nVe
 ranstalter: Museen der Stadt Dresden
DTSTAMP:20260420T093522Z
LOCATION:Kraszewski-Museum\, Nordstraße 28\, 01099 Dresden
SUMMARY:Mythos Gräfin Cosel. Zur Rezeptionsgeschichte der Anna Constantia 
 von Brockdorff (1680–1765)
END:VEVENT
END:VCALENDAR
