BEGIN:VCALENDAR
VERSION:2.0
PRODID:-//pretix//pretix.eu//
BEGIN:VTIMEZONE
TZID:Europe/Berlin
BEGIN:STANDARD
DTSTART:20001029T040000
RRULE:FREQ=YEARLY;BYDAY=-1SU;BYMONTH=10
TZNAME:CET
TZOFFSETFROM:+0200
TZOFFSETTO:+0100
END:STANDARD
BEGIN:DAYLIGHT
DTSTART:20000326T030000
RRULE:FREQ=YEARLY;BYDAY=-1SU;BYMONTH=3
TZNAME:CEST
TZOFFSETFROM:+0100
TZOFFSETTO:+0200
END:DAYLIGHT
END:VTIMEZONE
BEGIN:VEVENT
UID:pretix-MuseenDresden-kaffeeklatsch-4817300@shop.museen-dresden.de
DTSTART;TZID=Europe/Berlin:20260925T150000
DTEND;TZID=Europe/Berlin:20260925T160000
DESCRIPTION:Tickets: https://shop.museen-dresden.de/kaffeeklatsch/4817300/\
 nVeranstalter: Museen der Stadt Dresden
DTSTAMP:20260420T094646Z
LOCATION:Stadtmuseum Dresden\, Wilsdruffer Straße 2\, 01067 Dresden
SUMMARY:Im Zauber des Zimmertheaters – Ludwig Tieck in Dresden
END:VEVENT
END:VCALENDAR
